BEGIN:VCALENDAR
VERSION:2.0
CALSCALE:GREGORIAN
PRODID:adamgibbons/ics
METHOD:PUBLISH
X-PUBLISHED-TTL:PT1H
BEGIN:VEVENT
UID:388@buffalol.askapunk.net
SUMMARY:Pissguzzler\, Fed Ash\, Common Decency\, So Over It\, Dislexia at H
	en House
DTSTAMP:20260424T160250Z
DTSTART:20260510T213000Z
URL:https://buffalo.askapunk.net/event/cluckcore-the-cluckening-pissguzzler
	-fed-ash-common-decency-so-over-it-dislexia
LOCATION:Hen House - 690 Hertel Ave
STATUS:CONFIRMED
CATEGORIES:Common Decency,Fed Ash,G.A.G.S.,Hen House,Lavender Room,Piss Guz
	zler,So Over It,dislexia
END:VEVENT
BEGIN:VEVENT
UID:386@buffalol.askapunk.net
SUMMARY:Sour Tooth\, T.W.M.S.O. and Pipe Bomb at Area 54
DTSTAMP:20260424T160250Z
DTSTART:20260512T230000Z
URL:https://buffalo.askapunk.net/event/sour-tooth-twmso-and-pipe-bomb-at-ar
	ea-54
LOCATION:Area 54 - 3234 Main St
STATUS:CONFIRMED
CATEGORIES:Amy’s Place,Area 54,Lavender Room,Sour Tooth,TWMSO,pipe bomb
END:VEVENT
BEGIN:VEVENT
UID:393@buffalol.askapunk.net
SUMMARY:Film & Gender\, Jerry Big's World Famous Band\, Hostile Makeover\, 
	Lil Twiggy & The Green Aardvark Mafia
DTSTAMP:20260424T160250Z
DTSTART:20260524T220000Z
URL:https://buffalo.askapunk.net/event/film-and-gender-jerry-bigs-world-fam
	ous-band-hostile-makeover-lil-twiggy-and-the-green-aardvark-mafia
LOCATION:Area 54 - 3234 Main St
STATUS:CONFIRMED
CATEGORIES:Amy’s Place,Area 54,Film & Gender,Hostile Makeover,Jerry Big's W
	orld Famous Band,Lavender Room,lil twiggy & the green aardvark mafia
END:VEVENT
BEGIN:VEVENT
UID:385@buffalol.askapunk.net
SUMMARY:Boy Jr\, Muddle\, Harepin Turn\, Blaised and Confused at Buffalo Ir
	on Works
DTSTAMP:20260424T160250Z
DTSTART:20260612T230000Z
URL:https://buffalo.askapunk.net/event/boy-jr-muddle-harepin-turn-blaised-a
	nd-confused-at-buffalo-iron-works
LOCATION:Buffalo Iron Works - 49 Illinois St
STATUS:CONFIRMED
CATEGORIES:Blaised and Confused,Boy Jr,Buffalo Iron Works,Carpet Factory,Ha
	repin Turn,Lavender Room,Muddle
END:VEVENT
END:VCALENDAR
